BEGIN:VCALENDAR
VERSION:2.0
PRODID:-//Community Alliance with Family Farmers - ECPv6.15.17.1//NONSGML v1.0//EN
CALSCALE:GREGORIAN
METHOD:PUBLISH
X-WR-CALNAME:Community Alliance with Family Farmers
X-ORIGINAL-URL:https://caff.org
X-WR-CALDESC:Events for Community Alliance with Family Farmers
REFRESH-INTERVAL;VALUE=DURATION:PT1H
X-Robots-Tag:noindex
X-PUBLISHED-TTL:PT1H
BEGIN:VTIMEZONE
TZID:America/Los_Angeles
BEGIN:DAYLIGHT
TZOFFSETFROM:-0800
TZOFFSETTO:-0700
TZNAME:PDT
DTSTART:20250309T100000
END:DAYLIGHT
BEGIN:STANDARD
TZOFFSETFROM:-0700
TZOFFSETTO:-0800
TZNAME:PST
DTSTART:20251102T090000
END:STANDARD
BEGIN:DAYLIGHT
TZOFFSETFROM:-0800
TZOFFSETTO:-0700
TZNAME:PDT
DTSTART:20260308T100000
END:DAYLIGHT
BEGIN:STANDARD
TZOFFSETFROM:-0700
TZOFFSETTO:-0800
TZNAME:PST
DTSTART:20261101T090000
END:STANDARD
BEGIN:DAYLIGHT
TZOFFSETFROM:-0800
TZOFFSETTO:-0700
TZNAME:PDT
DTSTART:20270314T100000
END:DAYLIGHT
BEGIN:STANDARD
TZOFFSETFROM:-0700
TZOFFSETTO:-0800
TZNAME:PST
DTSTART:20271107T090000
END:STANDARD
END:VTIMEZONE
BEGIN:VEVENT
DTSTART;TZID=America/Los_Angeles:20260429T170000
DTEND;TZID=America/Los_Angeles:20260429T180000
DTSTAMP:20260422T022926
CREATED:20260416T191939Z
LAST-MODIFIED:20260416T192045Z
UID:56977-1777482000-1777485600@caff.org
SUMMARY:Webinar: Exploring California’s New Agritourism Rules + On-Farm Stays
DESCRIPTION:Join us for a free webinar with Hipcamp\, CAFF (Community Alliance with Family Farmers)\, and the San Benito Agricultural Land Trust exploring California’s evolving agritourism landscape—and what it means for farmers and ranchers. \nWe’ll cover:\n– What’s changing in California’s agritourism rules\n– How farmers and landowners are earning additional income through hosting small-scale camping\n– Logistics and liability coverage related to hosting campers on agricultural properties\n– Key considerations for safety and guest experience \nThis session is designed for farmers\, landowners\, and organizations supporting agricultural communities. \n👉 Register here! https://hipcamp.zoom.us/webinar/register/WN__E8HG25pTpytTR5Le6N2lg#/registration \nCan’t attend live? Register anyway and we’ll send the recording.\nWe hope you can join us!
URL:https://caff.org/event/agritourism-in-ca-webinar/
LOCATION:Webinar
CATEGORIES:Webinar
ATTACH;FMTTYPE=image/jpeg:https://caff.org/wp-content/uploads/2026/04/hipcamp-agritourism-webinar.jpg
ORGANIZER;CN="CAFF":MAILTO:caff.org
END:VEVENT
END:VCALENDAR