BEGIN:VCALENDAR
VERSION:2.0
PRODID:-//Community Alliance with Family Farmers - ECPv6.15.17.1//NONSGML v1.0//EN
CALSCALE:GREGORIAN
METHOD:PUBLISH
X-WR-CALNAME:Community Alliance with Family Farmers
X-ORIGINAL-URL:https://caff.org
X-WR-CALDESC:Events for Community Alliance with Family Farmers
REFRESH-INTERVAL;VALUE=DURATION:PT1H
X-Robots-Tag:noindex
X-PUBLISHED-TTL:PT1H
BEGIN:VTIMEZONE
TZID:America/Los_Angeles
BEGIN:DAYLIGHT
TZOFFSETFROM:-0800
TZOFFSETTO:-0700
TZNAME:PDT
DTSTART:20180311T100000
END:DAYLIGHT
BEGIN:STANDARD
TZOFFSETFROM:-0700
TZOFFSETTO:-0800
TZNAME:PST
DTSTART:20181104T090000
END:STANDARD
BEGIN:DAYLIGHT
TZOFFSETFROM:-0800
TZOFFSETTO:-0700
TZNAME:PDT
DTSTART:20190310T100000
END:DAYLIGHT
BEGIN:STANDARD
TZOFFSETFROM:-0700
TZOFFSETTO:-0800
TZNAME:PST
DTSTART:20191103T090000
END:STANDARD
BEGIN:DAYLIGHT
TZOFFSETFROM:-0800
TZOFFSETTO:-0700
TZNAME:PDT
DTSTART:20200308T100000
END:DAYLIGHT
BEGIN:STANDARD
TZOFFSETFROM:-0700
TZOFFSETTO:-0800
TZNAME:PST
DTSTART:20201101T090000
END:STANDARD
END:VTIMEZONE
BEGIN:VEVENT
DTSTART;TZID=America/Los_Angeles:20191206T100000
DTEND;TZID=America/Los_Angeles:20191206T140000
DTSTAMP:20260425T063630
CREATED:20191115T074256Z
LAST-MODIFIED:20191204T082402Z
UID:6315-1575626400-1575640800@caff.org
SUMMARY:Growing a Revolution: Rebuilding Urban Soil
DESCRIPTION:Join us on Friday December 6th\, 2019 at Three Sisters Gardens as we dig deep into soil health and learn about how we can regenerate our soil while also healing our climate and nourishing our communities! This workshop will be led by local experts and will explore how we recover our soil from the years of neglect that have left them compacted and lacking essential nutrients. \nSpecific methods we’ll be discussing together include cover cropping and no-till agriculture along with some insight into how these methods help us to remove carbon from the atmosphere to mitigate the impacts of climate change. This workshop will also include an experiential component with a field demonstration at our site on Cummins Way in West Sacramento. \nFood is free and will be provided by Indigenous chef Melissa Yringuez\, of Baa Baa’s Kitchen. While the ingredients may not consist of Native foods\, we want to honor and acknowledge that the fight for food sovereignty is one that is ongoing and a movement that we will continue to help build. \nThis event is FREE and is intended to bring together underrepresented farmers including new farmers\, socially and economically disadvantagd farmers\, minority farmers\, veteran\, and urban farmers to participate in a discussion around sustainable agricultural practices.\n700 Cummins Way\, West Sacramento\, CA 95605cl\nPlease be aware that this event is happening in December and that could mean dry or wet weather and definitely cold weather\, so please dress for those circumstances. Should there be rain we have a backup indoor location we can utilize to keep us warm and dry. Recommended clothing:\nBoots or closed toe shoes\nPants\nJacket / Rain Jacket\nA hat or beenie \nFor questions\, please email:\ninfo@3sistersgardens.com \nRegister Here! \n  \nMADE POSSIBLE BY: \nWe Grow Urban Farm \nCommunity Alliance with Family Farmers (CAFF) \nSacramento Food Policy Council \nJohnny’s Selected Seeds \nPlanting Justice \nAmerican Farmland Trust
URL:https://caff.org/event/6315/
LOCATION:Arthur F. Turner Community Library\, 1212 Merkley Ave.\, West Sacramento\, CA\, 95691\, United States
CATEGORIES:Climate Smart Farming,Sacramento Valley
ATTACH;FMTTYPE=image/jpeg:https://caff.org/wp-content/uploads/2019/11/growing-revolution.jpg
ORGANIZER;CN="The Farmers Guild & CAFF":MAILTO:evan@caff.org
GEO:38.5802172;-121.5233511
X-APPLE-STRUCTURED-LOCATION;VALUE=URI;X-ADDRESS=Arthur F. Turner Community Library 1212 Merkley Ave. West Sacramento CA 95691 United States;X-APPLE-RADIUS=500;X-TITLE=1212 Merkley Ave.:geo:-121.5233511,38.5802172
END:VEVENT
END:VCALENDAR